BEGIN:VCALENDAR
VERSION:2.0
PRODID:-//plazalasamericasatl.com - ECPv6.15.14//NONSGML v1.0//EN
CALSCALE:GREGORIAN
METHOD:PUBLISH
X-WR-CALNAME:plazalasamericasatl.com
X-ORIGINAL-URL:https://plazalasamericasatl.com
X-WR-CALDESC:Eventos para plazalasamericasatl.com
REFRESH-INTERVAL;VALUE=DURATION:PT1H
X-Robots-Tag:noindex
X-PUBLISHED-TTL:PT1H
BEGIN:VTIMEZONE
TZID:Asia/Dubai
BEGIN:STANDARD
TZOFFSETFROM:+0400
TZOFFSETTO:+0400
TZNAME:+04
DTSTART:20230101T000000
END:STANDARD
END:VTIMEZONE
BEGIN:VEVENT
DTSTART;TZID=Asia/Dubai:20241110T120000
DTEND;TZID=Asia/Dubai:20241110T170000
DTSTAMP:20260422T173326
CREATED:20241107T004049Z
LAST-MODIFIED:20241107T004049Z
UID:18714-1731240000-1731258000@plazalasamericasatl.com
SUMMARY:El Gusanito Book Festival
DESCRIPTION:La literatura es fundamental para toda la familia. Estamos muy orgullosos de ser parte del Gusanito Book Festival en Plaza Las Americas\n\n\nTe esperamos este domingo de 12PM-5PM\n\n\nTendremos lecturas\, una estación para envolver regalos\, pintura de caras para los niños\, manualidades\, rifas de canastas\, y muchos libros para regalar!
URL:https://plazalasamericasatl.com/event/el-gusanito-book-festival-2/
CATEGORIES:Evento Familiar
ATTACH;FMTTYPE=image/jpeg:https://plazalasamericasatl.com/wp-content/uploads/2024/11/GUSANO-e1730925606736.jpg
END:VEVENT
BEGIN:VEVENT
DTSTART;TZID=Asia/Dubai:20240811T110000
DTEND;TZID=Asia/Dubai:20240811T180000
DTSTAMP:20260422T173326
CREATED:20240705T054109Z
LAST-MODIFIED:20240705T054109Z
UID:18355-1723374000-1723399200@plazalasamericasatl.com
SUMMARY:Family Festival VPORCOLOMBIA
DESCRIPTION:En Plaza las Américas\, queremos celebrar contigo. Ven y disfruta de las amenidades\, comida y más que tenemos para ti. ¡No te lo pierdas! ⁣
URL:https://plazalasamericasatl.com/event/family-festival-vporcolombia/
CATEGORIES:Evento Familiar
ATTACH;FMTTYPE=image/jpeg:https://plazalasamericasatl.com/wp-content/uploads/2024/07/festival-free-pass.jpg
END:VEVENT
BEGIN:VEVENT
DTSTART;TZID=Asia/Dubai:20240811T110000
DTEND;TZID=Asia/Dubai:20240811T180000
DTSTAMP:20260422T173326
CREATED:20240705T054109Z
LAST-MODIFIED:20240705T054109Z
UID:18713-1723374000-1723399200@plazalasamericasatl.com
SUMMARY:Family Festival VPORCOLOMBIA
DESCRIPTION:En Plaza las Américas\, queremos celebrar contigo. Ven y disfruta de las amenidades\, comida y más que tenemos para ti. ¡No te lo pierdas! ⁣
URL:https://plazalasamericasatl.com/event/family-festival-vporcolombia-2/
CATEGORIES:Evento Familiar
ATTACH;FMTTYPE=image/jpeg:https://plazalasamericasatl.com/wp-content/uploads/2024/07/festival-free-pass.jpg
END:VEVENT
BEGIN:VEVENT
DTSTART;TZID=Asia/Dubai:20240728T120000
DTEND;TZID=Asia/Dubai:20240728T180000
DTSTAMP:20260422T173326
CREATED:20230112T013531Z
LAST-MODIFIED:20230112T013531Z
UID:15873-1722168000-1722189600@plazalasamericasatl.com
SUMMARY:Back to School Bash
DESCRIPTION:¡Prepárate para el Back to School con Plaza Las Américas! \nÚnete a nosotros en este emocionante evento y prepárate para el nuevo año escolar. Disfruta de un día lleno de alegría\, aprendizaje y sorpresas que hemos preparado para ti y tu familia. \n¡Ven a vivir con nosotros este “Back to School” y descubre grandes sorpresas!
URL:https://plazalasamericasatl.com/event/back-to-school-bash/
CATEGORIES:Evento Infantil
ATTACH;FMTTYPE=image/png:https://plazalasamericasatl.com/wp-content/uploads/2023/01/image.png
END:VEVENT
BEGIN:VEVENT
DTSTART;TZID=Asia/Dubai:20240728T120000
DTEND;TZID=Asia/Dubai:20240728T180000
DTSTAMP:20260422T173326
CREATED:20230112T013531Z
LAST-MODIFIED:20230112T013531Z
UID:18706-1722168000-1722189600@plazalasamericasatl.com
SUMMARY:Back to School Bash
DESCRIPTION:¡Prepárate para el Back to School con Plaza Las Américas! \nÚnete a nosotros en este emocionante evento y prepárate para el nuevo año escolar. Disfruta de un día lleno de alegría\, aprendizaje y sorpresas que hemos preparado para ti y tu familia. \n¡Ven a vivir con nosotros este “Back to School” y descubre grandes sorpresas!
URL:https://plazalasamericasatl.com/event/back-to-school-bash-2/
CATEGORIES:Evento Infantil
ATTACH;FMTTYPE=image/png:https://plazalasamericasatl.com/wp-content/uploads/2023/01/image.png
END:VEVENT
BEGIN:VEVENT
DTSTART;TZID=Asia/Dubai:20240616T140000
DTEND;TZID=Asia/Dubai:20240616T180000
DTSTAMP:20260422T173326
CREATED:20230111T032549Z
LAST-MODIFIED:20230111T032549Z
UID:15864-1718546400-1718560800@plazalasamericasatl.com
SUMMARY:Father's Day Hot Dog Challenge
DESCRIPTION:¿Quién es el más tragón de la casa?….¡PAPÁ\, por supuesto! \nPues esta es tu oportunidad de inscribirlo para que pueda comer todos los HOT DOGS que pueda en tiempo límite. \nY GANAR GRANDES PREMIOS y demostrar que tiene… ¡La panza más poderosa de Atlanta! \nInscríbete aquí y comienza a saborear la ¡Gloria eterna en el mundo de los hot dogs! \n 
URL:https://plazalasamericasatl.com/event/fathers-day/
CATEGORIES:Evento Familiar
ATTACH;FMTTYPE=image/jpeg:https://plazalasamericasatl.com/wp-content/uploads/2024/05/img-hotdog-web.jpg
END:VEVENT
BEGIN:VEVENT
DTSTART;TZID=Asia/Dubai:20240616T140000
DTEND;TZID=Asia/Dubai:20240616T180000
DTSTAMP:20260422T173326
CREATED:20230111T032549Z
LAST-MODIFIED:20230111T032549Z
UID:18705-1718546400-1718560800@plazalasamericasatl.com
SUMMARY:Father's Day Hot Dog Challenge
DESCRIPTION:¿Quién es el más tragón de la casa?….¡PAPÁ\, por supuesto! \nPues esta es tu oportunidad de inscribirlo para que pueda comer todos los HOT DOGS que pueda en tiempo límite. \nY GANAR GRANDES PREMIOS y demostrar que tiene… ¡La panza más poderosa de Atlanta! \nInscríbete aquí y comienza a saborear la ¡Gloria eterna en el mundo de los hot dogs! \n 
URL:https://plazalasamericasatl.com/event/fathers-day-2/
CATEGORIES:Evento Familiar
ATTACH;FMTTYPE=image/jpeg:https://plazalasamericasatl.com/wp-content/uploads/2024/05/img-hotdog-web.jpg
END:VEVENT
BEGIN:VEVENT
DTSTART;VALUE=DATE:20240106
DTEND;VALUE=DATE:20240107
DTSTAMP:20260422T173326
CREATED:20231127T215701Z
LAST-MODIFIED:20231127T215701Z
UID:18711-1704499200-1704585599@plazalasamericasatl.com
SUMMARY:Three Kings Day Celebration "Día de Reyes"
DESCRIPTION:Kids and Families\, join us for a festive “Three Kings’ Day” celebration! As we gather to honor this cherished tradition\, we invite you to revel in the spirit of the season. \n¡Regalos\, roscas y muchísima diversión! \nSaturday January 6th. 4pm. \n  \n#PlazaLasAmericas #ElCorazónLatinoDeGeorgia #ThreeKingsDay #DíaDeReyes
URL:https://plazalasamericasatl.com/event/three-kings-day-celebration-dia-de-los-reyes-2/
CATEGORIES:Evento Infantil
ATTACH;FMTTYPE=image/jpeg:https://plazalasamericasatl.com/wp-content/uploads/2023/11/dia-de-reyes.jpg
END:VEVENT
BEGIN:VEVENT
DTSTART;VALUE=DATE:20240106
DTEND;VALUE=DATE:20240107
DTSTAMP:20260422T173326
CREATED:20231127T215701Z
LAST-MODIFIED:20231127T215701Z
UID:17464-1704499200-1704585599@plazalasamericasatl.com
SUMMARY:Three Kings Day Celebration "Día de Reyes"
DESCRIPTION:Kids and Families\, join us for a festive “Three Kings’ Day” celebration! As we gather to honor this cherished tradition\, we invite you to revel in the spirit of the season. \n¡Regalos\, roscas y muchísima diversión! \nSaturday January 6th. 4pm. \n  \n#PlazaLasAmericas #ElCorazónLatinoDeGeorgia #ThreeKingsDay #DíaDeReyes
URL:https://plazalasamericasatl.com/event/three-kings-day-celebration-dia-de-los-reyes/
CATEGORIES:Evento Infantil
ATTACH;FMTTYPE=image/jpeg:https://plazalasamericasatl.com/wp-content/uploads/2023/11/dia-de-reyes-1.jpg
END:VEVENT
END:VCALENDAR